BEGIN:VCALENDAR
VERSION:2.0
PRODID:-//eventon.com NONSGML v1.0//EN
CALSCALE:GREGORIAN
METHOD:PUBLISH
BEGIN:VEVENT
UID:69e5f50553277
DTSTAMP:20260420T094229Z
DTSTART:20230604
DTEND:20230605
LOCATION:
SUMMARY:Judo-Bundesliga
DESCRIPTION:Frühjahrsdurchgang Damen-Bundesliga 2023Beginn: 10:30 UhrSalzb
 urger Teams in der Damen-Bundesliga (gesamt 9 Teams):ESV Sanjindo Bischofsh
 ofenJudo Union FlachgauLiga-Begegnungen in Straßwalchen\nhttps://www.judo-
 salzburg.at/events/judo-bundesliga-4/
URL:https://www.judo-salzburg.at/events/judo-bundesliga-4/
END:VEVENT
END:VCALENDAR