BEGIN:VCALENDAR
VERSION:2.0
PRODID:-//eventon.com NONSGML v1.0//EN
CALSCALE:GREGORIAN
METHOD:PUBLISH
BEGIN:VEVENT
UID:69e740d5e4108
DTSTAMP:20260421T091813Z
DTSTART:20240405T200000Z
DTEND:20240405T235000Z
LOCATION:
SUMMARY:2. Judo Bundesliga
DESCRIPTION:Auftakt 2. BL startet mit Heimkampf für Pinzgau: Judo Union Pi
 nzgau vs. Judo Dornbirn 5:9(20:00 Uhr\,  Sporthalle NMS Rauris) Begegnungen
  2. Bundesliga\nhttps://www.judo-salzburg.at/events/2-judo-bundesliga/
URL:https://www.judo-salzburg.at/events/2-judo-bundesliga/
END:VEVENT
END:VCALENDAR